BEGIN:VCALENDAR
VERSION:2.0
PRODID:-//Tukios.com/
BEGIN:VEVENT
UID:662137a4-1eb2-4417-8ee0-61440535fa55@www.colonialchapel.com
DTSTAMP:20260421T022743Z
DTSTART:20260429
SUMMARY:Interment with Military Honors
DESCRIPTION:
URL:https://www.colonialchapel.com/obituaries/melbourne-lenz
LOCATION: 20953 West Hoff Road  Elwood IL 60421
GEO:41.3921281;-88.1304732
END:VEVENT
END:VCALENDAR