BEGIN:VCALENDAR
VERSION:2.0
PRODID:-//Tukios.com/
BEGIN:VEVENT
UID:e560a67b-b9d0-4af3-9d05-96ee8de89252@www.colonialchapel.com
DTSTAMP:20260421T022850Z
DTSTART:20260429T160000Z
DTEND:20260429T170000Z
SUMMARY:Funeral Service
DESCRIPTION:
URL:https://www.colonialchapel.com/obituaries/melbourne-lenz
LOCATION: 6850 W 159th St  Tinley Park IL 60477
GEO:41.6034759;-87.7877464
END:VEVENT
END:VCALENDAR