BEGIN:VCALENDAR
VERSION:2.0
PRODID:-//Tukios.com/
BEGIN:VEVENT
UID:86218fda-2269-4a59-9d28-c5fbae12aabb@www.colonialchapel.com
DTSTAMP:20260421T022620Z
DTSTART:20260429T143000Z
DTEND:20260429T160000Z
SUMMARY:Visitation
DESCRIPTION:
URL:https://www.colonialchapel.com/obituaries/melbourne-lenz
LOCATION: 6850 W 159th St  Tinley Park IL 60477
GEO:41.6034759;-87.7877464
END:VEVENT
END:VCALENDAR