BEGIN:VCALENDAR
VERSION:2.0
PRODID:-//Tukios.com/
BEGIN:VEVENT
UID:613c8b4c-72ce-422e-aad6-35f8f0b89698@www.colonialchapel.com
DTSTAMP:20260419T214115Z
DTSTART:20260509T153000Z
DTEND:20260509T163000Z
SUMMARY:Funeral Mass
DESCRIPTION:
URL:https://www.colonialchapel.com/obituaries/marie-simon-beemsterboer
LOCATION: 15050 South Wolf Road  Willow Springs IL 60480
GEO:41.7333715;-87.8955336
END:VEVENT
END:VCALENDAR