BEGIN:VCALENDAR
VERSION:2.0
PRODID:-//Tukios.com/
BEGIN:VEVENT
UID:a989e9c5-21c8-4e23-b8ae-dd4907712d1f@www.colonialchapel.com
DTSTAMP:20260421T002716Z
DTSTART:20260424T140000Z
DTEND:20260424T151500Z
SUMMARY:Visitation
DESCRIPTION:Visitation Friday, April 24, 2026 from 9:00 a.m. -10:15 a.m. 
	at Colonial Chapel, 15525 S. 73rd Ave. (155th/Wheeler Dr. & Harlem) 
	Orland Park, IL to Our Lady of the Woods Church,10731 W. 131st St., 
	Orland Park, IL. Funeral Mass 11:00 a.m.
URL:https://www.colonialchapel.com/obituaries/lorraine-hushka
LOCATION: 15525 S. 73rd Avenue  Orland Park IL 60462
GEO:41.6096312;-87.7958146
END:VEVENT
END:VCALENDAR