BEGIN:VCALENDAR
VERSION:2.0
PRODID:-//Tukios.com/
BEGIN:VEVENT
UID:44c69c11-3d58-45c3-a6f4-52ef9ef0b2c0@www.colonialchapel.com
DTSTAMP:20260421T002518Z
DTSTART:20260424T160000Z
DTEND:20260424T170000Z
SUMMARY:Funeral Mass
DESCRIPTION:Funeral Mass 11:00 a.m.
URL:https://www.colonialchapel.com/obituaries/lorraine-hushka
LOCATION: 10731 West 131st Street  Orland Park IL 60462
GEO:41.6500323;-87.8823094
END:VEVENT
END:VCALENDAR