BEGIN:VCALENDAR
VERSION:2.0
PRODID:-//Tukios.com/
BEGIN:VEVENT
UID:af51d0a5-f7e5-43bf-9b64-641210c07ef7@www.colonialchapel.com
DTSTAMP:20260421T015711Z
DTSTART:20260427
SUMMARY:Interment with Military Honors
DESCRIPTION:Interment with Military Honors at Abraham Lincoln National 
	Cemetery, Elwood, IL.
URL:https://www.colonialchapel.com/obituaries/lawrence-stone
LOCATION: 20953 West Hoff Road  Elwood IL 60421
GEO:41.3921281;-88.1304732
END:VEVENT
END:VCALENDAR