BEGIN:VCALENDAR
VERSION:2.0
PRODID:-//Tukios.com/
BEGIN:VEVENT
UID:98548ccc-b013-4d17-b255-aafa0afb1a4e@www.colonialchapel.com
DTSTAMP:20260421T015501Z
DTSTART:20260427T163000Z
DTEND:20260427T173000Z
SUMMARY:Funeral Service
DESCRIPTION:Funeral Service Monday, April 27, 2026 at 11:30 a.m. at 
	Colonial Chapel, 15525 S. 73rd Ave. (155th/Wheeler Dr. & Harlem) Orland 
	Park, IL. Interment with Military Honors to follow at Abraham Lincoln 
	National Cemetery, Elwood, IL.
URL:https://www.colonialchapel.com/obituaries/lawrence-stone
LOCATION: 15525 S. 73rd Avenue  Orland Park IL 60462
GEO:41.6096312;-87.7958146
END:VEVENT
END:VCALENDAR