BEGIN:VCALENDAR
VERSION:2.0
PRODID:-//Tukios.com/
BEGIN:VEVENT
UID:9130bffb-9dfa-43b9-bc7d-4c7389690213@www.colonialchapel.com
DTSTAMP:20260421T015500Z
DTSTART:20260426T190000Z
DTEND:20260427T000000Z
SUMMARY:Visitation
DESCRIPTION:Visitation Sunday, April 26, 2026 from 2-7 p.m.
URL:https://www.colonialchapel.com/obituaries/lawrence-stone
LOCATION: 15525 S. 73rd Avenue  Orland Park IL 60462
GEO:41.6096312;-87.7958146
END:VEVENT
END:VCALENDAR