BEGIN:VCALENDAR
VERSION:2.0
PRODID:-//Tukios.com/
BEGIN:VEVENT
UID:4b56acfa-3a1c-445f-9ac1-5e6774cb4043@www.colonialchapel.com
DTSTAMP:20260420T192504Z
DTSTART:20260512T173000Z
DTEND:20260512T183000Z
SUMMARY:Burial
DESCRIPTION:Burial Tuesday, May 12, 2026 at 12:30 p.m. at Abraham Lincoln 
	National Cemetery, 20953 W. Hoff Road, Elwood, IL 60521. Family and 
	friends are invited to meet at Abraham Lincoln National Cemetery at 12:15 
	p.m. Please park in the funeral procession lanes next to the public 
	information center.
URL:https://www.colonialchapel.com/obituaries/ilona-raff
LOCATION: 20953 West Hoff Road  Elwood IL 60421
GEO:41.3921281;-88.1304732
END:VEVENT
END:VCALENDAR