BEGIN:VCALENDAR
VERSION:2.0
PRODID:-//Tukios.com/
BEGIN:VEVENT
UID:e4784317-681b-4ed7-8d71-59da5921701d@www.colonialchapel.com
DTSTAMP:20260420T235600Z
DTSTART:20260502T170000Z
DTEND:20260502T180000Z
SUMMARY:Burial
DESCRIPTION:
URL:https://www.colonialchapel.com/obituaries/dr-frank-mancari-jr
LOCATION:Trinity Memorial Gardens 12609 Memorial Dr  Trinity FL 34655
GEO:28.1904531;-82.606572
END:VEVENT
END:VCALENDAR