BEGIN:VCALENDAR
VERSION:2.0
PRODID:-//Tukios.com/
BEGIN:VEVENT
UID:f47baf3d-9155-42b1-a2a1-91f71d3c2a6a@www.colonialchapel.com
DTSTAMP:20260420T235701Z
DTSTART:20260425T190000Z
DTEND:20260425T210000Z
SUMMARY:Visitation
DESCRIPTION:Visitation from 2:00 p.m. - 4:00 p.m. with a Funeral Service 
	to follow at 4:00 p.m.
URL:https://www.colonialchapel.com/obituaries/dr-frank-mancari-jr
LOCATION: 15525 S. 73rd Avenue  Orland Park IL 60462
GEO:41.6096312;-87.7958146
END:VEVENT
END:VCALENDAR