BEGIN:VCALENDAR
VERSION:2.0
PRODID:-//Tukios.com/
BEGIN:VEVENT
UID:b520c42b-0eea-4011-86c8-393acbc4356e@www.colonialchapel.com
DTSTAMP:20260424T012334Z
DTSTART:20260428T190000Z
DTEND:20260429T000000Z
SUMMARY:Visitation
DESCRIPTION:Visitation Tuesday, April 28, 2026 from 2-7 p.m. with a 
	Funeral Service to follow at 7:00 p.m. at Colonial Chapel, 15525 S. 73rd 
	Ave. (155th/Wheeler Dr. & Harlem) Orland Park, IL. To celebrate 
	Claude’s life, the family invites you to wear your favorite color. 
	Rather than offering condolences, they would love for you to share a 
	favorite memory that you have of him.
URL:https://www.colonialchapel.com/obituaries/claude-poulsen
LOCATION: 15525 S. 73rd Avenue (155th/Wheeler Dr. & Harlem)  Orland Park 
	IL 60462
GEO:41.6096312;-87.7958146
END:VEVENT
END:VCALENDAR